BEGIN:VCALENDAR
VERSION:2.0
PRODID:-//ChamberMaster//Event Calendar 2.0//EN
METHOD:PUBLISH
X-PUBLISHED-TTL:P3D
REFRESH-INTERVAL:P3D
CALSCALE:GREGORIAN
BEGIN:VEVENT
DTSTART:20130428T000000Z
DTEND:20130428T020000Z
X-MICROSOFT-CDO-ALLDAYEVENT:FALSE
SUMMARY:Mark Twain: One Man Show
DESCRIPTION:Mark Twain: One Man Show\n\n	     April 27 Saturday 7:00 PM \n\n	     Tickets $15.00\n\n	     Shelby County Arts Performance Space\n\n	     104 Mildred Street\n\n	     Columbiana\n\n	 \n\n	     Mark Twain: One Man Show - starring Darrell Revel. Mark Twain is one of the best loved American authors known for his wit and humor. Join us as Shelby County's own Darrell Revel performs   a family friendly interactive enactment of Twain's stories and life.
X-ALT-DESC;FMTTYPE=text/html:<p class="p1">\n	&nbsp\; &nbsp\; &nbsp\;Mark Twain: One Man Show</p>\n<p class="p1">\n	&nbsp\;&nbsp\; &nbsp\; April 27 Saturday 7:00 PM&nbsp\;</p>\n<p class="p1">\n	&nbsp\;&nbsp\; &nbsp\; Tickets $15.00</p>\n<p class="p1">\n	&nbsp\;&nbsp\; &nbsp\; Shelby County Arts Performance Space</p>\n<p class="p1">\n	&nbsp\;&nbsp\; &nbsp\; 104 Mildred Street</p>\n<p class="p1">\n	&nbsp\;&nbsp\; &nbsp\; Columbiana</p>\n<p class="p2">\n	&nbsp\;</p>\n<p class="p1">\n	&nbsp\;&nbsp\; &nbsp\; Mark Twain: One Man Show - starring Darrell Revel. Mark Twain is one of the best loved American authors known for his wit and humor. Join us as Shelby County&#39\;s own Darrell Revel performs &nbsp\;&nbsp\;a family friendly interactive enactment of Twain&#39\;s stories and life.</p>\n<p class="p2">\n	&nbsp\;</p>\n
LOCATION:102 Mildred Street Columbiana\, AL 35051
UID:e.145.4565
SEQUENCE:3
DTSTAMP:20260424T134435Z
URL:https://business.shelbychamber.org/events/details/mark-twain-one-man-show-04-27-2013-4565
END:VEVENT

END:VCALENDAR
