BEGIN:VCALENDAR
VERSION:2.0
PRODID:-//ChamberMaster//Event Calendar 2.0//EN
METHOD:PUBLISH
X-PUBLISHED-TTL:P3D
REFRESH-INTERVAL:P3D
CALSCALE:GREGORIAN
BEGIN:VEVENT
DTSTART:20120126T133000Z
DTEND:20120126T153000Z
X-MICROSOFT-CDO-ALLDAYEVENT:FALSE
SUMMARY:Master Minds BNI Kick-Off Event
DESCRIPTION:Make BNI part of your strategy. Join us at our kick-off event and see how BNI and word of mouth marketing builds business. PLEASE REMEMBER TO BRING PLENTY OF BUSINESS CARDS.  We allow only one person per professional category to join and your category may still be available.
X-ALT-DESC;FMTTYPE=text/html:Make BNI part of your strategy. Join us at our kick-off event and see how BNI and word of mouth marketing builds business. PLEASE REMEMBER TO BRING PLENTY OF BUSINESS CARDS.&nbsp\; We allow only one person per professional category to join and your category may still be available.
LOCATION:Faulkner University 4524 Southlake Parkway\, Hoover
UID:e.145.3910
SEQUENCE:3
DTSTAMP:20260425T133931Z
URL:https://business.shelbychamber.org/events/details/master-minds-bni-kick-off-event-01-26-2012-3910
END:VEVENT

END:VCALENDAR
