BEGIN:VCALENDAR
VERSION:2.0
PRODID:-//ChamberMaster//Event Calendar 2.0//EN
METHOD:PUBLISH
X-PUBLISHED-TTL:P3D
REFRESH-INTERVAL:P3D
CALSCALE:GREGORIAN
BEGIN:VEVENT
DTSTART:20110419T160000Z
DTEND:20110419T180000Z
X-MICROSOFT-CDO-ALLDAYEVENT:FALSE
SUMMARY:Masterming Business Network Meeting
DESCRIPTION:Come visit the Mastermind Business Network Group on Tuesday 19 April and join the wave in taking your business to the top.  FREE group!
X-ALT-DESC;FMTTYPE=text/html:Come visit the Mastermind Business Network Group on Tuesday 19 April and join the wave in taking your business to the top.  FREE group!
LOCATION:Highway 31 Pelham adjacent from Home Depot and Highway 52.
UID:e.145.3377
SEQUENCE:3
DTSTAMP:20260426T034244Z
URL:https://business.shelbychamber.org/events/details/masterming-business-network-meeting-04-19-2011-3377
END:VEVENT

END:VCALENDAR
