BEGIN:VCALENDAR
VERSION:2.0
PRODID:-//ChamberMaster//Event Calendar 2.0//EN
METHOD:PUBLISH
X-PUBLISHED-TTL:P3D
REFRESH-INTERVAL:P3D
CALSCALE:GREGORIAN
BEGIN:VEVENT
DTSTART:20141022T210000Z
DTEND:20141022T230000Z
X-MICROSOFT-CDO-ALLDAYEVENT:FALSE
SUMMARY:Maximum Physical Therapy and Sports Wellness Grand Opening/ Ribbon Cutting
DESCRIPTION:Come Celebrate the GRAND opening of Maximum Physical Therapy and Sports Wellness. The Ribbon Cutting will be at 4:15PM with an open house to follow.
X-ALT-DESC;FMTTYPE=text/html:Come Celebrate the GRAND opening of Maximum Physical Therapy and Sports Wellness. The Ribbon Cutting will be at 4:15PM with an open house to follow.&nbsp\;&nbsp\;&nbsp\;
LOCATION:2680 Valleydale Road Suite A Hoover\, AL 35244
UID:e.145.6465
SEQUENCE:3
DTSTAMP:20260423T092041Z
URL:https://business.shelbychamber.org/events/details/maximum-physical-therapy-and-sports-wellness-grand-opening-ribbon-cutting-10-22-2014-6465
END:VEVENT

END:VCALENDAR
