BEGIN:VCALENDAR
VERSION:2.0
PRODID:-//ChamberMaster//Event Calendar 2.0//EN
METHOD:PUBLISH
X-PUBLISHED-TTL:P3D
REFRESH-INTERVAL:P3D
CALSCALE:GREGORIAN
BEGIN:VEVENT
DTSTART:20111014T220000Z
DTEND:20111015T020000Z
X-MICROSOFT-CDO-ALLDAYEVENT:FALSE
SUMMARY:Meadow View Elementary PTO presents "2011 Fall Festival"
DESCRIPTION:The Meadow View Elementary PTO proudly announces the 2011 Fall Festival which will be held Friday\, October 14\, 2011 from 5:00 pm   9:00 pm.\n\n\n\nWe are looking for vendors!\n\n \n\nPlease click here for a printable form.  Once completed\, please contact Meadow View Elementary PTO at 682-5740 or email Kenneth Paschal at paschalk357@gmail.com\n\n\n\n  We will continue to take applications until 30 spaces are filled.\n\n \n\nThank you for your continued support of Meadow View Elementary School and I look forward to hearing from you.\n\n \n\n \n\nWe appreciate your support of our school.\n\n \n\nSincerely\,\n\nKenneth Paschal\n\n626-9458\n\nMVES PTO Fundraising Chairperson
X-ALT-DESC;FMTTYPE=text/html:<span style="font-size: 12pt\;"><span style="font-family: arial\,sans-serif\;">The Meadow View Elementary PTO proudly announces the 2011 Fall Festival which will be held Friday\, October 14\, 2011 from 5:00 pm &ndash\; 9:00 pm.</span></span><br />\n<br />\n<span style="font-size: 16px\;">We are looking for vendors!</span><br />\n&nbsp\;<a href="http://cloud.chambermaster.com/userfiles/UserFiles/chambers/145/File/2011-9-13FallFestivalvendorApp12011.pdf"><br />\n</a><span style="font-size: 12pt\;"><span style="font-family: arial\,sans-serif\;"><a href="http://cloud.chambermaster.com/userfiles/UserFiles/chambers/145/File/2011-9-13FallFestivalvendorApp12011.pdf">Please click here for a printable form</a>.&nbsp\; Once completed\, please contact Meadow View Elementary PTO at 682-5740 or email Kenneth Paschal at paschalk357@gmail.com<br />\n<br />\n&nbsp\; We will continue to take applications until 30 spaces are filled.</span></span><br />\n&nbsp\;<br />\n<span style="font-size: 12pt\;"><span style="font-family: arial\,sans-serif\;">Thank you for your continued support of Meadow View Elementary School and I look forward to hearing from you.</span></span><br />\n&nbsp\;<br />\n&nbsp\;<br />\n<span style="font-size: 12pt\;"><span style="font-family: arial\,sans-serif\;">We appreciate your support of our school.</span></span><br />\n&nbsp\;<br />\n<span style="font-size: 12pt\;"><span style="font-family: arial\,sans-serif\;">Sincerely\,</span></span><br />\n<span style="font-size: 12pt\;"><span style="font-family: arial\,sans-serif\;">Kenneth Paschal</span></span><br />\n<span style="font-size: 12pt\;"><span style="font-family: arial\,sans-serif\;">626-9458</span></span><br />\n<span style="font-size: 12pt\;"><span style="font-family: arial\,sans-serif\;">MVES PTO Fundraising Chairperson</span></span><br />\n&nbsp\;
LOCATION:Meadow View Elementary School 2800 Smokey Road Alabaster\, AL 35007
UID:e.145.3519
SEQUENCE:3
DTSTAMP:20260425T183107Z
URL:https://business.shelbychamber.org/events/details/meadow-view-elementary-pto-presents-2011-fall-festival-10-14-2011-3519
END:VEVENT

END:VCALENDAR
