BEGIN:VCALENDAR
VERSION:2.0
PRODID:-//ChamberMaster//Event Calendar 2.0//EN
METHOD:PUBLISH
X-PUBLISHED-TTL:P3D
REFRESH-INTERVAL:P3D
CALSCALE:GREGORIAN
BEGIN:VEVENT
DTSTART:20110430T150000Z
DTEND:20110430T190000Z
X-MICROSOFT-CDO-ALLDAYEVENT:FALSE
SUMMARY:Medication Take-Back Day
DESCRIPTION:Unneeded medications in the home are a potential source of abuse. On Saturday\, April 30th 10:00 am-2:00 pm the Shelby County Drug Enforcement Task Force will host a take-back day to collect any unneeded\, expired or unwanted over-the-counter or prescription medications. No information is required at drop-off and it is free of charge.
X-ALT-DESC;FMTTYPE=text/html:Unneeded medications in the home are a potential source of abuse. On Saturday\, April 30th 10:00 am-2:00 pm the Shelby County Drug Enforcement Task Force will host a take-back day to collect any unneeded\, expired or unwanted over-the-counter or prescription medications. No information is required at drop-off and it is free of charge.
LOCATION:Alabaster Target-250 South Colonial Drive\, Alabaster Greystone YMCA-5212 Highway 280\, Birmingham
UID:e.145.3359
SEQUENCE:3
DTSTAMP:20260426T033626Z
URL:https://business.shelbychamber.org/events/details/medication-take-back-day-04-30-2011-3359
END:VEVENT

END:VCALENDAR
