BEGIN:VCALENDAR
VERSION:2.0
PRODID:-//ChamberMaster//Event Calendar 2.0//EN
METHOD:PUBLISH
X-PUBLISHED-TTL:P3D
REFRESH-INTERVAL:P3D
CALSCALE:GREGORIAN
BEGIN:VEVENT
DTSTART:20150301T200000Z
DTEND:20150301T210000Z
X-MICROSOFT-CDO-ALLDAYEVENT:FALSE
SUMMARY:Meet Author Hunter Murphy
DESCRIPTION:Come and meet Alabama author Hunter Murphy! He will be discussing his debut novel\, a mystery titled Imogene in New Orleans. This will be the first in a series featuring Imogene\, the boys\, and Goose the English Bulldog.\n\n\n\nBooks will be available for purchase.
X-ALT-DESC;FMTTYPE=text/html:Come and meet Alabama author Hunter Murphy! He will be discussing his debut novel\, a mystery titled<em> Imogene in New Orleans.</em> This will be the first in a series featuring Imogene\, the boys\, and Goose the English Bulldog.<br />\n<br />\nBooks will be available for purchase.
LOCATION:North Shelby Library Meeting Room
UID:e.145.7189
SEQUENCE:3
DTSTAMP:20260423T020301Z
URL:https://business.shelbychamber.org/events/details/meet-author-hunter-murphy-03-01-2015-7189
END:VEVENT

END:VCALENDAR
