BEGIN:VCALENDAR
VERSION:2.0
PRODID:-//ChamberMaster//Event Calendar 2.0//EN
METHOD:PUBLISH
X-PUBLISHED-TTL:P3D
REFRESH-INTERVAL:P3D
CALSCALE:GREGORIAN
BEGIN:VEVENT
DTSTART:20140523T140000Z
DTEND:20140526T220000Z
X-MICROSOFT-CDO-ALLDAYEVENT:FALSE
SUMMARY:Memorial Day Weekend
DESCRIPTION:Spend your Memorial Day weekend at the Birmingham Zoo. Splash in the fountains\, take a ride on the train or carousel\, enjoy Wildlife Shows and experience all the Zoo has to offer. In honor of Memorial Day weekend\, all active\, disabled and retired military personnel and their dependents can enjoy FREE admission to the Zoo with proof of a valid military I.D.
X-ALT-DESC;FMTTYPE=text/html:Spend your Memorial Day weekend at the Birmingham Zoo. Splash in the fountains\, take a ride on the train or carousel\, enjoy Wildlife Shows and experience all the Zoo has to offer. In honor of Memorial Day weekend\, all active\, disabled and retired military personnel and their dependents can enjoy FREE admission to the Zoo with proof of a valid military I.D.
LOCATION:The Birmingham Zoo
UID:e.145.5082
SEQUENCE:3
DTSTAMP:20260423T183003Z
URL:https://business.shelbychamber.org/events/details/memorial-day-weekend-05-23-2014-5082
END:VEVENT

END:VCALENDAR
