BEGIN:VCALENDAR
VERSION:2.0
PRODID:-//ChamberMaster//Event Calendar 2.0//EN
METHOD:PUBLISH
X-PUBLISHED-TTL:P3D
REFRESH-INTERVAL:P3D
CALSCALE:GREGORIAN
BEGIN:VEVENT
DTSTART:20160613T230000Z
DTEND:20160614T000000Z
X-MICROSOFT-CDO-ALLDAYEVENT:FALSE
SUMMARY:Miss Kit's Bubble School
DESCRIPTION:Join us for this unique show filled with science\, comedy\, and best of all\, BUBBLES! All ages. No registration. Sponsored by Shelby Pediatric Dentistry.
X-ALT-DESC;FMTTYPE=text/html:<span style="font-family:calibri light\,sans-serif"><span style="font-size:12.0pt">Join us for this unique show filled with science\, comedy\, and best of all\, BUBBLES! All ages. No registration. <strong>Sponsored by Shelby Pediatric Dentistry.&nbsp\;</strong></span></span>
LOCATION:North Shelby Library
UID:e.145.9534
SEQUENCE:3
DTSTAMP:20260422T043547Z
URL:https://business.shelbychamber.org/events/details/miss-kit-s-bubble-school-06-13-2016-9534
END:VEVENT

END:VCALENDAR
