BEGIN:VCALENDAR
VERSION:2.0
PRODID:-//ChamberMaster//Event Calendar 2.0//EN
METHOD:PUBLISH
X-PUBLISHED-TTL:P3D
REFRESH-INTERVAL:P3D
CALSCALE:GREGORIAN
BEGIN:VEVENT
DTSTART:20150515T220000Z
DTEND:20150516T020000Z
X-MICROSOFT-CDO-ALLDAYEVENT:FALSE
SUMMARY:Moe's Southwest Grill Summer Reading Fundraiser
DESCRIPTION:Join us at Moe's Southwest Grill at the Lee Branch to celebrate the start of Summer Reading and help the library raise money. Just drop the receipt from your meal in the bowl located by the register labeled "Spirit Fundraiser".
X-ALT-DESC;FMTTYPE=text/html:Join us at Moe&rsquo\;s Southwest Grill at the Lee Branch to celebrate the start of Summer Reading and help the library raise money. Just drop the receipt from your meal in the bowl located by the register labeled &ldquo\;Spirit Fundraiser&rdquo\;.&nbsp\;
LOCATION:Moe's Southwest Grill at the Lee Branch
UID:e.145.7641
SEQUENCE:3
DTSTAMP:20260422T230352Z
URL:https://business.shelbychamber.org/events/details/moe-s-southwest-grill-summer-reading-fundraiser-05-15-2015-7641
END:VEVENT

END:VCALENDAR
