BEGIN:VCALENDAR
VERSION:2.0
PRODID:-//ChamberMaster//Event Calendar 2.0//EN
METHOD:PUBLISH
X-PUBLISHED-TTL:P3D
REFRESH-INTERVAL:P3D
CALSCALE:GREGORIAN
BEGIN:VEVENT
DTSTART:20130318T150000Z
DTEND:20130318T160000Z
X-MICROSOFT-CDO-ALLDAYEVENT:FALSE
SUMMARY:Monday's Mammals
DESCRIPTION:Learn about the Mammals of Alabama. Meet at the Campground Pavilion.
X-ALT-DESC;FMTTYPE=text/html:Learn about the Mammals of Alabama. Meet at the Campground Pavilion.
LOCATION:Oak Mountain State Park - Campground Pavilion
UID:e.145.4513
SEQUENCE:3
DTSTAMP:20260424T152302Z
URL:https://business.shelbychamber.org/events/details/monday-s-mammals-03-18-2013-4513
END:VEVENT

END:VCALENDAR
