BEGIN:VCALENDAR
VERSION:2.0
PRODID:-//ChamberMaster//Event Calendar 2.0//EN
METHOD:PUBLISH
X-PUBLISHED-TTL:P3D
REFRESH-INTERVAL:P3D
CALSCALE:GREGORIAN
BEGIN:VEVENT
DTSTART:20121023T220000Z
DTEND:20121024T010000Z
X-MICROSOFT-CDO-ALLDAYEVENT:FALSE
SUMMARY:Montevallo Women's Bball Spirit Night at Zaxby's
DESCRIPTION:Tuesday\, October 23rd from 5 p.m. to 8 p.m.\, is our fundraiser night at Zaxby's!  Come to Zaxby's and help raise money for Montevallo Women's Basketball Spirit Night just by eating deliciou Zaxby's chicken!\n\n\n\n10% of total sales during fundraiser night will be donated to the basketball program. \n\n\n\nHOPE TO SEE YOU HERE!!\n\n\n\nAt this location only:\n\n9134 Hwy. 119\n\nAlabaster\, AL 35007
X-ALT-DESC;FMTTYPE=text/html:Tuesday\, October 23rd from 5 p.m. to 8 p.m.\, is our fundraiser night at Zaxby&#39\;s!&nbsp\; Come to Zaxby&#39\;s and help raise money for Montevallo Women&#39\;s Basketball Spirit Night just by eating deliciou Zaxby&#39\;s chicken!<br />\n<br />\n10% of total sales during fundraiser night will be donated to the basketball program.&nbsp\;<br />\n<br />\nHOPE TO SEE YOU HERE!!<br />\n<br />\nAt this location only:<br />\n9134 Hwy. 119<br />\nAlabaster\, AL 35007<br />\n
LOCATION:At this location only: 9134 Hwy. 119 Alabaster\, AL 35007
UID:e.145.4410
SEQUENCE:3
DTSTAMP:20260424T233759Z
URL:https://business.shelbychamber.org/events/details/montevallo-women-s-bball-spirit-night-at-zaxby-s-10-23-2012-4410
END:VEVENT

END:VCALENDAR
