BEGIN:VCALENDAR
VERSION:2.0
PRODID:-//ChamberMaster//Event Calendar 2.0//EN
METHOD:PUBLISH
X-PUBLISHED-TTL:P3D
REFRESH-INTERVAL:P3D
CALSCALE:GREGORIAN
BEGIN:VEVENT
DTSTART:20170117T160000Z
DTEND:20170118T020000Z
X-MICROSOFT-CDO-ALLDAYEVENT:FALSE
SUMMARY:Montgomery Drive-In 2017
DESCRIPTION:Chambers in Shelby County Co-Hosting\n\n Fifth Annual Montgomery Drive-In on February 21\n\n\nThe Chamber's 2017 Montgomery Drive-In will be held February 21 at various locations in our state capitol. \n\n\n\nThis year's Drive-In event is co-sponsored by NobleBank & Trust and co-hosted by the Greater Shelby County\, Hoover\, Montevallo and South Shelby chambers of commerce. The program includes: transportation to and from Montgomery\, a luncheon with our Shelby County Legislative Delegation\, presentations from various Alabama state departmental heads and agency directors and a legislative reception in conjunction with the Business Council of Alabama. \n\n\n\nThe cost for participants is $45 for Chamber investors and $75 for "Future" investors. ShelbyOne investors receive one complimentary registration. For additional information on this event\, or to make a reservation\, please contact Kirk Mancer at the Chamber via e-mail at kirk@shelbychamber.org or by phone at 419-3361.\n\n\n\nShelbyOne Investors receive one complimentary registration but are asked to contact the Chamber to make the reservation.
X-ALT-DESC;FMTTYPE=text/html:<div style="text-align: center\;"><strong>Chambers in Shelby County Co-Hosting<br />\n&nbsp\;Fifth&nbsp\;Annual Montgomery Drive-In on February 21</strong></div>\n<br />\nThe Chamber&rsquo\;s 2017 Montgomery Drive-In will be held February 21 at various locations in our state capitol.&nbsp\;<br />\n<br />\nThis year&rsquo\;s Drive-In event is co-sponsored by NobleBank &amp\; Trust and co-hosted by the Greater Shelby County\, Hoover\, Montevallo and South Shelby chambers of commerce. The program includes: transportation to and from Montgomery\, a luncheon with our Shelby County Legislative Delegation\, presentations from various Alabama state departmental heads and agency directors and a legislative reception in conjunction with the Business Council of Alabama.&nbsp\;<br />\n<br />\nThe cost for participants is $45 for Chamber investors and $75 for &ldquo\;Future&rdquo\; investors. <strong>ShelbyOne</strong> investors receive one complimentary registration. For additional information on this event\, or to make a reservation\, please contact Kirk Mancer at the Chamber via e-mail at <a href="mailto:kirk@shelbychamber.org?subject=2017%20Montgomery%20Drive-In%20February%2021">kirk@shelbychamber.org</a> or by phone at 419-3361.<br />\n<br />\n<em><strong>ShelbyOne</strong> Investors receive one complimentary registration but are asked to contact the Chamber to make the reservation.</em>
LOCATION:Transportation is available and included in the registration fee. Participants will meet at the Shelby County Services Building 1301 County Services Drive Pelham AL 35124 663-4542
UID:e.145.10348
SEQUENCE:3
DTSTAMP:20260421T114517Z
URL:https://business.shelbychamber.org/events/details/montgomery-drive-in-2017-10348
END:VEVENT

END:VCALENDAR
