BEGIN:VCALENDAR
VERSION:2.0
PRODID:-//ChamberMaster//Event Calendar 2.0//EN
METHOD:PUBLISH
X-PUBLISHED-TTL:P3D
REFRESH-INTERVAL:P3D
CALSCALE:GREGORIAN
BEGIN:VEVENT
DTSTART:20150704T230000Z
DTEND:20150705T030000Z
X-MICROSOFT-CDO-ALLDAYEVENT:FALSE
SUMMARY:Morgan Creek Winery Presents Music and Fireworks in the Vineyard
DESCRIPTION:Join us in the vineyard this July 4th for a dynamic concert event. Enjoy wine tastings\, winery tours\, BBQ and spectacular fireworks! Music starts at 6:00 p.m. and fireworks will wow at 9:30 p.m. Bring a blanket and chairs for the perfect spot in the vineyard. $10 per person at the gate and ages 12 & under free. VIP tables are available $30 per table and seat up to eight people.
X-ALT-DESC;FMTTYPE=text/html:Join us in the vineyard this July 4th for a dynamic concert event. Enjoy wine tastings\, winery tours\, BBQ and spectacular fireworks! Music starts at 6:00 p.m. and fireworks will wow at 9:30 p.m. Bring a blanket and chairs for the perfect spot in the vineyard. $10 per person at the gate and ages 12 &amp\; under free. VIP tables are available $30 per table and seat up to eight people.
LOCATION:Morgan Creek Vineyards 181 Morgan Creek Lane Harpersville\, AL 35078
UID:e.145.7712
SEQUENCE:3
DTSTAMP:20260422T200058Z
URL:https://business.shelbychamber.org/events/details/morgan-creek-winery-presents-music-and-fireworks-in-the-vineyard-07-04-2015-7712
END:VEVENT

END:VCALENDAR
