BEGIN:VCALENDAR
VERSION:2.0
PRODID:-//ChamberMaster//Event Calendar 2.0//EN
METHOD:PUBLISH
X-PUBLISHED-TTL:P3D
REFRESH-INTERVAL:P3D
CALSCALE:GREGORIAN
BEGIN:VEVENT
DTSTART;VALUE=DATE:20150612
DTEND;VALUE=DATE:20150615
TRANSP:TRANSPARENT
X-MICROSOFT-CDO-ALLDAYEVENT:TRUE
SUMMARY:MotoAmerica AMA/FIM Championship
DESCRIPTION:The top Superbike racers in North America return to Barber Motorsports Park June 12-14 with the new and improved MotoAmerica (AMA/FIM) Superbike Challenge. MotoAmerica will host Round 5 of this national racing series with the country's best motorcycle racers battling it out on the world's fastest production-based motorcycles. The weekend will include two full days of racing - a double-header event - for the Superbike\, Superstock 1000\, Supersport and Superstock 600 classes plus vendors and fun for the whole family. New this year\, Barber will host Round 2 of the KTM RC 390 Cup\, a new class open to riders age 14-22. Additional Features: All Weekend - Motorcycle Superstore Vendor Village All Weekend - Honda Strider Kid Zone All Weekend - Barber Motorsports Museum Open Friday - MotoAmerica Fan Bicycle Challenge Sunday - Dunlop Autograph Session Sunday - Dunlop Legends Lap of Honor
X-ALT-DESC;FMTTYPE=text/html:The top Superbike racers in North America return to Barber Motorsports Park June 12-14 with the new and improved MotoAmerica (AMA/FIM) Superbike Challenge. MotoAmerica will host Round 5 of this national racing series with the country&#39\;s best motorcycle racers battling it out on the world&#39\;s fastest production-based motorcycles. The weekend will include two full days of racing - a double-header event - for the Superbike\, Superstock 1000\, Supersport and Superstock 600 classes plus vendors and fun for the whole family. New this year\, Barber will host Round 2 of the KTM RC 390 Cup\, a new class open to riders age 14-22. Additional Features: All Weekend - Motorcycle Superstore Vendor Village All Weekend - Honda Strider Kid Zone All Weekend - Barber Motorsports Museum Open Friday - MotoAmerica Fan Bicycle Challenge Sunday - Dunlop Autograph Session Sunday - Dunlop Legends Lap of Honor
LOCATION:Barber Motorsports Park
UID:e.145.7672
SEQUENCE:3
DTSTAMP:20260422T213159Z
URL:https://business.shelbychamber.org/events/details/motoamerica-ama-fim-championship-06-12-2015-7672
END:VEVENT

END:VCALENDAR
