BEGIN:VCALENDAR
VERSION:2.0
PRODID:-//ChamberMaster//Event Calendar 2.0//EN
METHOD:PUBLISH
X-PUBLISHED-TTL:P3D
REFRESH-INTERVAL:P3D
CALSCALE:GREGORIAN
BEGIN:VEVENT
DTSTART:20120428T123000Z
DTEND:20120428T200000Z
X-MICROSOFT-CDO-ALLDAYEVENT:FALSE
SUMMARY:Motorcycle Fundraiser Ride to benefit U.S. Army 2nd Lt. Matthew Blount's Family
DESCRIPTION:Motorcycle Fundraiser Ride to benefit U.S. Army 2nd Lt. Matthew Blount's Family\n\n\n\nPELHAM CIVIC COMPLEX\n\n(Oak Mountain Amphitheater)\n\nPELHAM\, ALABAMA\n\n\n\nSATURDAY\, APRIL 28\, 2012\n\nREGISTRATION: 7:30 AM TO 8:30 AM\n\n\n\nCOFFEE AND DONUTS\n\n\n\nPRE-REGISTRATION at HELPMATTBLOUNT.COM\n\n\n\n$50 per Bike / Ride Departs @ 9:00 AM -- Click here for a printable flier.\n\n\n\nAn account has been set up @ Regions Bank for anyone desiring to make a donation(s):\n\nAccount number: 167002714\n\n\n\nFor additional information please contact Mike Dickens at mike.dickens777@yahoo.com or at home (205) 663-5625.\n\n\n\nAfter the ride\, many of the local restaurants will be serving lunch with proceeds going to benefit Matt's family.\n\n\n\nPlease visit one of them before returning home. Be safe and thank you for your generosity.
X-ALT-DESC;FMTTYPE=text/html:Motorcycle Fundraiser Ride to benefit U.S. Army 2nd Lt. Matthew Blount&rsquo\;s Family<br />\n<br />\nPELHAM CIVIC COMPLEX<br />\n(Oak Mountain Amphitheater)<br />\nPELHAM\, ALABAMA<br />\n<br />\nSATURDAY\, APRIL 28\, 2012<br />\nREGISTRATION: 7:30 AM TO 8:30 AM<br />\n<br />\nCOFFEE AND DONUTS<br />\n<br />\nPRE-REGISTRATION at <a href="http://www.helpmattblount.com">HELPMATTBLOUNT.COM</a><br />\n<br />\n$50 per Bike / Ride Departs @ 9:00 AM -- <a href="http://cloud.chambermaster.com/userfiles/UserFiles/chambers/145/File/Community%20Events/Blountflyerformotorcycleevent.pdf">Click here for a printable flier.</a><br />\n<br />\nAn account has been set up @ Regions Bank for anyone desiring to make a donation(s):<br />\nAccount number: 167002714<br />\n<br />\nFor additional information please contact Mike Dickens at mike.dickens777@yahoo.com or at home (205) 663-5625.<br />\n<br />\nAfter the ride\, many of the local restaurants will be serving lunch with proceeds going to benefit Matt&rsquo\;s family.<br />\n<br />\nPlease visit one of them before returning home. Be safe and thank you for your generosity.
LOCATION:PELHAM CIVIC COMPLEX (Oak Mountain Amphitheater) PELHAM\, ALABAMA
UID:e.145.3977
SEQUENCE:3
DTSTAMP:20260425T103217Z
URL:https://business.shelbychamber.org/events/details/motorcycle-fundraiser-ride-to-benefit-u-s-army-2nd-lt-matthew-blount-s-family-04-28-2012-3977
END:VEVENT

END:VCALENDAR
