BEGIN:VCALENDAR
VERSION:2.0
PRODID:-//ChamberMaster//Event Calendar 2.0//EN
METHOD:PUBLISH
X-PUBLISHED-TTL:P3D
REFRESH-INTERVAL:P3D
CALSCALE:GREGORIAN
BEGIN:VEVENT
DTSTART:20151118T200000Z
DTEND:20151118T210000Z
X-MICROSOFT-CDO-ALLDAYEVENT:FALSE
SUMMARY:Mr. Bugg's Pest Control\, Inc. Ground Breaking
DESCRIPTION:Ground breaking for Mr. Bugg's Pest Control\, Inc. --\n\n\n\nThis ground breaking has been canceled due to inclement weather.
X-ALT-DESC;FMTTYPE=text/html:Ground breaking for Mr. Bugg&#39\;s Pest Control\, Inc. --<br />\n<br />\nThis ground breaking has been canceled due to inclement weather.
LOCATION:3070 Pelham Parkway Pelham\, AL 35124
UID:e.145.7968
SEQUENCE:3
DTSTAMP:20260422T141004Z
URL:https://business.shelbychamber.org/events/details/mr-bugg-s-pest-control-inc-ground-breaking-11-18-2015-7968
END:VEVENT

END:VCALENDAR
