BEGIN:VCALENDAR
VERSION:2.0
PRODID:-//ChamberMaster//Event Calendar 2.0//EN
METHOD:PUBLISH
X-PUBLISHED-TTL:P3D
REFRESH-INTERVAL:P3D
CALSCALE:GREGORIAN
BEGIN:VEVENT
DTSTART:20150411T150000Z
DTEND:20150411T200000Z
X-MICROSOFT-CDO-ALLDAYEVENT:FALSE
SUMMARY:Mt Laurel Spring Festival
DESCRIPTION:The Mt Laurel Spring Festival will return again on Saturday\, April 11th\, 2015\, from 10 a.m. to 3 p.m. Mt Laurel's Spring Festival is a family-friendly event that offers plenty of activities to entertain children\, including inflatables\, hay-rides\, face painting\, and a petting zoo.\n\n\n\nChildren can also enjoy the playground at Olmsted Park. This year's festivities also include food from Jim 'N Nick's\, food trucks\, crafts from local vendors\, live music\, and fresh fruits and vegetables from local farmers.\n\n\n\nWith jewelry\, art\, flowers\, and handcrafted goods available from more than 150 vendors\, the Mt Laurel Spring Festival truly celebrates the bounty of the season. Come join us at the Mt Laurel Spring Festival on April 11th.\n\n\n\nThe festival will take place rain or shine\, and admission is free.
X-ALT-DESC;FMTTYPE=text/html:<br>\nThe Mt Laurel Spring Festival will return again on Saturday\, April 11th\, 2015\, from 10 a.m. to 3 p.m. Mt Laurel's Spring Festival is a family-friendly event that offers plenty of activities to entertain children\, including inflatables\, hay-rides\, face painting\, and a petting zoo.<br>\n<br>\nChildren can also enjoy the playground at Olmsted Park. This year's festivities also include food from Jim 'N Nick's\, food trucks\, crafts from local vendors\, live music\, and fresh fruits and vegetables from local farmers.<br>\n<br>\nWith jewelry\, art\, flowers\, and handcrafted goods available from more than 150 vendors\, the Mt Laurel Spring Festival truly celebrates the bounty of the season. Come join us at the Mt Laurel Spring Festival on April 11th.<br>\n<br>\nThe festival will take place rain or shine\, and admission is free.
LOCATION:The Town of Mt Laurel 5 Mt Laurel Ave. Birmingham\, AL 35242
UID:e.145.7591
SEQUENCE:3
DTSTAMP:20260423T003127Z
URL:https://business.shelbychamber.org/events/details/mt-laurel-spring-festival-04-11-2015-7591
END:VEVENT

END:VCALENDAR
