BEGIN:VCALENDAR
VERSION:2.0
PRODID:-//ChamberMaster//Event Calendar 2.0//EN
METHOD:PUBLISH
X-PUBLISHED-TTL:P3D
REFRESH-INTERVAL:P3D
CALSCALE:GREGORIAN
BEGIN:VEVENT
DTSTART:20140412T150000Z
DTEND:20140412T200000Z
X-MICROSOFT-CDO-ALLDAYEVENT:FALSE
SUMMARY:Mt Laurel Spring Festival
DESCRIPTION:Craft Fair & Farmers Market\, Hay Rides\, Music\, Petting Zoo\, Face Painting\, Festival Concessions\, Inflatibles\, a variety of Shops\, 6 restaurants & much\, much\, more
X-ALT-DESC;FMTTYPE=text/html:Craft Fair &amp\; Farmers Market\, Hay Rides\, Music\, Petting Zoo\, Face Painting\, Festival Concessions\, Inflatibles\, a variety of Shops\, 6 restaurants &amp\; much\, much\, more
LOCATION:Mt Laurel Town Center
UID:e.145.5073
SEQUENCE:3
DTSTAMP:20260423T200249Z
URL:https://business.shelbychamber.org/events/details/mt-laurel-spring-festival-04-12-2014-5073
END:VEVENT

END:VCALENDAR
