BEGIN:VCALENDAR
VERSION:2.0
PRODID:-//ChamberMaster//Event Calendar 2.0//EN
METHOD:PUBLISH
X-PUBLISHED-TTL:P3D
REFRESH-INTERVAL:P3D
CALSCALE:GREGORIAN
BEGIN:VEVENT
DTSTART:20110426T210000Z
DTEND:20110426T223000Z
X-MICROSOFT-CDO-ALLDAYEVENT:FALSE
SUMMARY:Mudslingers
DESCRIPTION:MUDSLINGERS\n\n\n\n* Put your imagination to work creating both whimsical & functional three-dimensional clay projects\n\n* Learn pinch & coil construction techniques.\n\n* Explore glazing techniques with bright\, colorful\, professional grade ceramic glazes!\n\n\n\nApr/May Class: April 26 - May 31\, 2011\n\nTuesdays\, 4:00 - 5:30PM\n\n6 Sessions\n\nAges 8 - 12
X-ALT-DESC;FMTTYPE=text/html:MUDSLINGERS<br />\n<br />\n* Put your imagination to work creating both whimsical &amp\; functional three-dimensional clay projects<br />\n* Learn pinch &amp\; coil construction techniques.<br />\n* Explore glazing techniques with bright\, colorful\, professional grade ceramic glazes!<br />\n<br />\nApr/May Class: April 26 - May 31\, 2011<br />\nTuesdays\, 4:00 - 5:30PM<br />\n6 Sessions<br />\nAges 8 - 12 
LOCATION:Shelby County Arts Council Studio 104 Mildred St Columbiana AL 35051
UID:e.145.2866
SEQUENCE:3
DTSTAMP:20260426T034245Z
URL:https://business.shelbychamber.org/events/details/mudslingers-04-26-2011-2866
END:VEVENT

END:VCALENDAR
