BEGIN:VCALENDAR
VERSION:2.0
PRODID:-//ChamberMaster//Event Calendar 2.0//EN
METHOD:PUBLISH
X-PUBLISHED-TTL:P3D
REFRESH-INTERVAL:P3D
CALSCALE:GREGORIAN
BEGIN:VEVENT
DTSTART;VALUE=DATE:20110426
DTEND;VALUE=DATE:20110601
TRANSP:TRANSPARENT
X-MICROSOFT-CDO-ALLDAYEVENT:TRUE
SUMMARY:Mudslingers
DESCRIPTION:Put your imagination to work creating both whimsical & functional three-dimensional clay projects.\n\nLearn pinch & coil construction techniques.\n\nExplore glazing techniques with bright\, colorful\, professional grade ceramic glazes!
X-ALT-DESC;FMTTYPE=text/html:Put your imagination to work creating both whimsical &amp\; functional three-dimensional clay projects.\n<br>Learn pinch &amp\; coil construction techniques.\n<br>Explore glazing techniques with bright\, colorful\, professional grade ceramic glazes!\n<br>
LOCATION:Shelby County Arts Council Studio-Columbiana
UID:e.145.3302
SEQUENCE:3
DTSTAMP:20260426T022203Z
URL:https://business.shelbychamber.org/events/details/mudslingers-04-26-2011-3302
END:VEVENT

END:VCALENDAR
