BEGIN:VCALENDAR
VERSION:2.0
PRODID:-//ChamberMaster//Event Calendar 2.0//EN
METHOD:PUBLISH
X-PUBLISHED-TTL:P3D
REFRESH-INTERVAL:P3D
CALSCALE:GREGORIAN
BEGIN:VEVENT
DTSTART:20150302T160000Z
DTEND:20150302T170000Z
X-MICROSOFT-CDO-ALLDAYEVENT:FALSE
SUMMARY:Murphy Oil Ground Breaking
DESCRIPTION:Please join us for a Ground Breaking Ceremony to celebrate the new Murphy Oil in Chelsea
X-ALT-DESC;FMTTYPE=text/html:Please join us for a Ground Breaking Ceremony to celebrate the new Murphy Oil in Chelsea
LOCATION:10673 Hwy 280\, Chelsea\, 35043
UID:e.145.7187
SEQUENCE:3
DTSTAMP:20260423T033404Z
URL:https://business.shelbychamber.org/events/details/murphy-oil-ground-breaking-03-02-2015-7187
END:VEVENT

END:VCALENDAR
