BEGIN:VCALENDAR
VERSION:2.0
PRODID:-//ChamberMaster//Event Calendar 2.0//EN
METHOD:PUBLISH
X-PUBLISHED-TTL:P3D
REFRESH-INTERVAL:P3D
CALSCALE:GREGORIAN
BEGIN:VEVENT
DTSTART:20160606T230000Z
DTEND:20160607T000000Z
X-MICROSOFT-CDO-ALLDAYEVENT:FALSE
SUMMARY:Music with Anna Moo
DESCRIPTION:Come for live music\, dancing\, and fun! All Ages. No registration. Sponsored by Oak Mountain Dentistry.
X-ALT-DESC;FMTTYPE=text/html:<span style="font-family:calibri light\,sans-serif">Come for live music\, dancing\, and fun! All Ages. No registration. <strong>Sponsored by Oak Mountain Dentistry.</strong></span>
LOCATION:North Shelby Library
UID:e.145.9532
SEQUENCE:3
DTSTAMP:20260422T030207Z
URL:https://business.shelbychamber.org/events/details/music-with-anna-moo-06-06-2016-9532
END:VEVENT

END:VCALENDAR
