BEGIN:VCALENDAR
VERSION:2.0
PRODID:-//ChamberMaster//Event Calendar 2.0//EN
METHOD:PUBLISH
X-PUBLISHED-TTL:P3D
REFRESH-INTERVAL:P3D
CALSCALE:GREGORIAN
BEGIN:VEVENT
DTSTART:20140309T190000Z
DTEND:20140309T210000Z
X-MICROSOFT-CDO-ALLDAYEVENT:FALSE
SUMMARY:My Name is Julia
DESCRIPTION:My Name is Julia- a play written by Kathryn Tucker Wyndham and performed by Carole Armistead\, is a story chronicles the life of education and prison reformer Julia Tutwiler. Ms. Tutwiler dedicated her life ensuring that women had an equal chance at education. This project is presented through a grant from the Alabama Humanities Foundation\, the state affiliate of the National Endowment for the Humanities. Pamela Sterne King\, professor of Women's Studies at University of Alabama Birmingham\, will lead the public discussion following the program. This event will be interpreted for the deaf. \n\n\n\nThe Seasoned Performers is a nonprofit company that celebrates the contributions of older adults by producing both original and well-known material\, providing performance opportunities for seniors\, and bringing live theatre to special and often underserved audiences. We are excited to bring them to the SCAC in 2014!
X-ALT-DESC;FMTTYPE=text/html:My Name is Julia- a play written by Kathryn Tucker Wyndham and performed by Carole Armistead\, is a story chronicles the life of education and prison reformer Julia Tutwiler. Ms. Tutwiler dedicated her life ensuring that women had an equal chance at education. This project is presented through a grant from the Alabama Humanities Foundation\, the state affiliate of the National Endowment for the Humanities. Pamela Sterne King\, professor of Women&rsquo\;s Studies at University of Alabama Birmingham\, will lead the public discussion following the program. <u>This event will be interpreted for the deaf. </u><br />\n<br />\nThe Seasoned Performers is a nonprofit company that celebrates the contributions of older adults by producing both original and well-known material\, providing performance opportunities for seniors\, and bringing live theatre to special and often underserved audiences. We are excited to bring them to the SCAC in 2014!<br />\n
LOCATION:Shelby County Arts Council Venue
UID:e.145.5043
SEQUENCE:3
DTSTAMP:20260423T212910Z
URL:https://business.shelbychamber.org/events/details/my-name-is-julia-03-09-2014-5043
END:VEVENT

END:VCALENDAR
