BEGIN:VCALENDAR
VERSION:2.0
PRODID:-//ChamberMaster//Event Calendar 2.0//EN
METHOD:PUBLISH
X-PUBLISHED-TTL:P3D
REFRESH-INTERVAL:P3D
CALSCALE:GREGORIAN
BEGIN:VEVENT
DTSTART:20130806T230000Z
DTEND:20130807T010000Z
X-MICROSOFT-CDO-ALLDAYEVENT:FALSE
SUMMARY:National Association of Town Watch / National Night Out 2013
DESCRIPTION:National Night Out\n\nAugust 6th\, 2013\n\n5:00 p.m. until 8:00 p.m. \n\nLucky's Parking Lot\n\n \n\nThe Town of Wilton and the City of Montevallo are co-sponsoring this year's National Night Out 2013 on August 6th\, 2013 at the Lucky's Foodland parking lot.\n\n\n\nWe have planned several activities for the children as well as events and entertainment for the older crowd.  Hunter Lawley Band will kick-off event at 5:00PM and the event will officially begin at 6:00PM.\n\n\n\nWe are working with our local police departments as well as fire and EMS to provide our community a great night to come out and meet the men and women behind the badges and we would love to have you help out as well. We would be honored if you would consider donating to our National Night Out.  Below is just a little bit about the program itself and how it all came about.\n\n \n\nNATW & National Night Out\n\n \n\nNational Association of Town Watch (NATW) is a non-profit organization dedicated to the development and promotion of various crime prevention programs including neighborhood watch groups\, law enforcement agencies\, state and regional crime prevention associations\, businesses\, civic groups\, and individuals\, devoted to safer communities. The nation's premiere crime prevention network works with law enforcement officials and civilian leaders to keep crime watch volunteers informed\, interested\, involved and motivated. Since 1981\, NATW continues to serve thousands of members across the nation.\n\n \n\nThe introduction of National Night Out\, "America's Night Out Against Crime"\, in 1984 began an effort to promote involvement in crime prevention activities\, police-community partnerships\, neighborhood camaraderie and send a message to criminals letting them know that neighborhoods are organized and fighting back. NATW's National Night Out program culminates annually\, on the first Tuesday of August. NATW's Executive Director\, Matt Peskin introduced National Night Out in 1984.The first National Night Out took place on Tuesday\, August 7th 1984. That first year\, 2.5 million Americans took part across 400 communities in 23 states.\n\n\n\nThe seed had been planted.\n\n \n\nNational Night Out now involves over 37 million people and 15\,000 communities from all fifty states\, U.S. Territories\, Canadian cities\, and military bases worldwide.\n\nThe traditional "lights on" campaign and symbolic front porch vigils turned into a celebration across America with various events and activities including\, but not limited to\, block parties\, cookouts\, parades\, visits from emergency personnel\, rallies and marches\, exhibits\, youth events\, safety demonstrations and seminars\, in effort to heighten awareness and enhance community relations.\n\n \n\nPeskin said\, "It's a wonderful opportunity for communities nationwide to promote police-community partnerships\, crime prevention\, and neighborhood camaraderie. While the one night is certainly not an answer to crime\, drugs and violence\, National Night Out represents the kind of spirit\, energy and determination to help make neighborhoods a safer place year round. The night celebrates safety and crime prevention successes and works to expand and strengthen programs for the next 364 days."\n\n \n\nAgain\, thank you for taking time to consider donating to such a worthy cause! We all echo what Mr. Peskin said in that it's a wonderful opportunity for us to all be able to sit down and share a little along the way. If you have any further questions\, please feel free to contact me via email at AprilPrice@wilton-al.org or via phone at 205-665-2021 ext. 201.  We look forward to making this year's National Night Out the best yet!\n\n \n\nSincerely\,\n\nApril Price\, Town Clerk\n\nTown of Wilton
X-ALT-DESC;FMTTYPE=text/html:<span style="font-size:12px\;"><span style="font-family: arial\;"><span style="font-size:16px\;"><strong><span style="color: red\;">National Night Out</span><br />\n<span style="color: red\;">August 6<sup>th</sup>\, 2013</span><br />\n<span style="color: red\;">5:00 p.m. until 8:00 p.m. </span><br />\n<span style="color: red\;">Lucky&rsquo\;s Parking Lot</span></strong></span><br />\n&nbsp\;<br />\nThe Town of Wilton and the City of Montevallo are co-sponsoring this year&rsquo\;s National Night Out 2013 on August 6<sup>th</sup>\, 2013 at the Lucky&rsquo\;s Foodland parking lot.<br />\n<br />\nWe have planned several activities for the children as well as events and entertainment for the older crowd.&nbsp\; Hunter Lawley Band will kick-off event at 5:00PM and the event will officially begin at 6:00PM.<br />\n<br />\nWe are working with our local police departments as well as fire and EMS to provide our community a great night to come out and meet the men and women behind the badges and we would love to have you help out as well. We would be honored if you would consider donating to our National Night Out.&nbsp\; Below is just a little bit about the program itself and how it all came about.<br />\n&nbsp\;<br />\nNATW &amp\; National Night Out<br />\n&nbsp\;<br />\nNational Association of Town Watch (NATW) is a non-profit organization dedicated to the development and promotion of various crime prevention programs including neighborhood watch groups\, law enforcement agencies\, state and regional crime prevention associations\, businesses\, civic groups\, and individuals\, devoted to safer communities. The nation&rsquo\;s premiere crime prevention network works with law enforcement officials and civilian leaders to keep crime watch volunteers informed\, interested\, involved and motivated. Since 1981\, NATW continues to serve thousands of members across the nation.<br />\n&nbsp\;<br />\nThe introduction of National Night Out\, &ldquo\;America&rsquo\;s Night Out Against Crime&rdquo\;\, in 1984 began an effort to promote involvement in crime prevention activities\, police-community partnerships\, neighborhood camaraderie and send a message to criminals letting them know that neighborhoods are organized and fighting back. NATW&rsquo\;s National Night Out program culminates annually\, on the first Tuesday of August. NATW&rsquo\;s Executive Director\, Matt Peskin introduced National Night Out in 1984.The first National Night Out took place on Tuesday\, August 7th 1984. That first year\, 2.5 million Americans took part across 400 communities in 23 states.<br />\n<br />\nThe seed had been planted.<br />\n&nbsp\;<br />\nNational Night Out now involves over 37 million people and 15\,000 communities from all fifty states\, U.S. Territories\, Canadian cities\, and military bases worldwide.<br />\nThe traditional &ldquo\;lights on&rdquo\; campaign and symbolic front porch vigils turned into a celebration across America with various events and activities including\, but not limited to\, block parties\, cookouts\, parades\, visits from emergency personnel\, rallies and marches\, exhibits\, youth events\, safety demonstrations and seminars\, in effort to heighten awareness and enhance community relations.<br />\n&nbsp\;<br />\nPeskin said\, &ldquo\;It&rsquo\;s a wonderful opportunity for communities nationwide to promote police-community partnerships\, crime prevention\, and neighborhood camaraderie. While the one night is certainly not an answer to crime\, drugs and violence\, National Night Out represents the kind of spirit\, energy and determination to help make neighborhoods a safer place year round. The night celebrates safety and crime prevention successes and works to expand and strengthen programs for the next 364 days.&rdquo\;<br />\n&nbsp\;<br />\nAgain\, thank you for taking time to consider donating to such a worthy cause! We all echo what Mr. Peskin said in that it&rsquo\;s a wonderful opportunity for us to all be able to sit down and share a little along the way. If you have any further questions\, please feel free to contact me via email at <a href="mailto:AprilPrice@wilton-al.org">AprilPrice@wilton-al.org</a> or via phone at 205-665-2021 ext. 201.&nbsp\; We look forward to making this year&rsquo\;s National Night Out the best yet!<br />\n&nbsp\;<br />\nSincerely\,<br />\nApril Price\, Town Clerk<br />\nTown of Wilton </span></span><br />\n
LOCATION:Lucky's Foodland Parking Lot (205) 665-5124 4000 Highway 25 Montevallo\, AL 35115
UID:e.145.4668
SEQUENCE:3
DTSTAMP:20260424T065948Z
URL:https://business.shelbychamber.org/events/details/national-association-of-town-watch-national-night-out-2013-08-06-2013-4668
END:VEVENT

END:VCALENDAR
