BEGIN:VCALENDAR
VERSION:2.0
PRODID:-//ChamberMaster//Event Calendar 2.0//EN
METHOD:PUBLISH
X-PUBLISHED-TTL:P3D
REFRESH-INTERVAL:P3D
CALSCALE:GREGORIAN
BEGIN:VEVENT
DTSTART:20130902T150000Z
DTEND:20130902T160000Z
X-MICROSOFT-CDO-ALLDAYEVENT:FALSE
SUMMARY:Nature Crafts
DESCRIPTION:We will make some crafts using things from nature. We will meet at the Campground Pavilion.
X-ALT-DESC;FMTTYPE=text/html:We will make some crafts using things from nature. We will meet at the Campground Pavilion. 
LOCATION:Oak Mountain State Park - Campground Pavilion
UID:e.145.4532
SEQUENCE:3
DTSTAMP:20260424T051221Z
URL:https://business.shelbychamber.org/events/details/nature-crafts-09-02-2013-4532
END:VEVENT

END:VCALENDAR
