BEGIN:VCALENDAR
VERSION:2.0
PRODID:-//ChamberMaster//Event Calendar 2.0//EN
METHOD:PUBLISH
X-PUBLISHED-TTL:P3D
REFRESH-INTERVAL:P3D
CALSCALE:GREGORIAN
BEGIN:VEVENT
DTSTART:20160620T230000Z
DTEND:20160621T000000Z
X-MICROSOFT-CDO-ALLDAYEVENT:FALSE
SUMMARY:Nature's Olympians
DESCRIPTION:Features live\, exotic wildlife from all over the world that possess very unique abilities. All ages. No registration.  Sponsored by Oak Mountain Pediatric Dentistry
X-ALT-DESC;FMTTYPE=text/html:<span style="font-family:calibri light\,sans-serif">Features live\, exotic wildlife from all over the world that possess very unique abilities. All ages. No registration.&nbsp\; Sponsored by <strong>Oak Mountain Pediatric Dentistry</strong></span>
LOCATION:North Shelby Library
UID:e.145.9537
SEQUENCE:3
DTSTAMP:20260422T030028Z
URL:https://business.shelbychamber.org/events/details/nature-s-olympians-06-20-2016-9537
END:VEVENT

END:VCALENDAR
