BEGIN:VCALENDAR
VERSION:2.0
PRODID:-//ChamberMaster//Event Calendar 2.0//EN
METHOD:PUBLISH
X-PUBLISHED-TTL:P3D
REFRESH-INTERVAL:P3D
CALSCALE:GREGORIAN
BEGIN:VEVENT
DTSTART:20130706T150000Z
DTEND:20130706T160000Z
X-MICROSOFT-CDO-ALLDAYEVENT:FALSE
SUMMARY:Nature Scavenger Hunt
DESCRIPTION:Come out to the park and hunt for something really cool things on this Nature Scavenger Hunt. We will start at the Campground Pavilion.
X-ALT-DESC;FMTTYPE=text/html:Come out to the park and hunt for something really cool things on this Nature Scavenger Hunt. We will start at the Campground Pavilion.
LOCATION:Oak Mountain State Park - Campground Pavilion
UID:e.145.4525
SEQUENCE:3
DTSTAMP:20260424T102432Z
URL:https://business.shelbychamber.org/events/details/nature-scavenger-hunt-07-06-2013-4525
END:VEVENT

END:VCALENDAR
