BEGIN:VCALENDAR
VERSION:2.0
PRODID:-//ChamberMaster//Event Calendar 2.0//EN
METHOD:PUBLISH
X-PUBLISHED-TTL:P3D
REFRESH-INTERVAL:P3D
CALSCALE:GREGORIAN
BEGIN:VEVENT
DTSTART:20130901T150000Z
DTEND:20130901T163000Z
X-MICROSOFT-CDO-ALLDAYEVENT:FALSE
SUMMARY:Nature Walk
DESCRIPTION:We will take a walk to look for different objects in nature. Meet at the entrance to the Light Trail in the Campground.
X-ALT-DESC;FMTTYPE=text/html:We will take a walk to look for different objects in nature. Meet at the entrance to the Light Trail in the Campground. 
LOCATION:Oak Mountain State Park - Light Trail in Campground
UID:e.145.4531
SEQUENCE:3
DTSTAMP:20260424T051143Z
URL:https://business.shelbychamber.org/events/details/nature-walk-09-01-2013-4531
END:VEVENT

END:VCALENDAR
