BEGIN:VCALENDAR
VERSION:2.0
PRODID:-//ChamberMaster//Event Calendar 2.0//EN
METHOD:PUBLISH
X-PUBLISHED-TTL:P3D
REFRESH-INTERVAL:P3D
CALSCALE:GREGORIAN
BEGIN:VEVENT
DTSTART;VALUE=DATE:20121210
DTEND;VALUE=DATE:20121211
TRANSP:TRANSPARENT
X-MICROSOFT-CDO-ALLDAYEVENT:TRUE
SUMMARY:NBC's AMERICA'S GOT TALENT is coming to Birmingham
DESCRIPTION:NBC's AMERICA'S GOT TALENT is coming to Birmingham\n\n	 \n\n	Auditions are being held Dec 10\, 2012 at the \n\n	Birmingham Jefferson Convention Center\n\n	 \n\n	YOUR DREAM  is 90 seconds away!!! \n\n	ANY TALENT and ANY AGE. \n\n	Don't miss your chance to show America YOUR talent and compete for the opportunity of a lifetime at winning the Grand Prize of $1 MILLION DOLLARS.\n\n	 \n\n	* To pre-register for an Audition and for more information on AGT\, please log onto www.agtauditions.com *
X-ALT-DESC;FMTTYPE=text/html:<div align="center" style="text-align: center\;">\n	<span style="font-size: 13px\;"><span style="color: rgb(247\, 0\, 0)\;"><span style="font-family: arial\;"><span style="font-size: large\;"><span style="font-family: arial\,helvetica\,sans-serif\;"><strong>NBC&#39\;s AMERICA&#39\;S GOT TALENT is coming to&nbsp\;</strong></span></span></span></span></span><span style="font-size: large\;"><span style="font-family: arial\,helvetica\,sans-serif\;"><span style="color: rgb(247\, 0\, 0)\;"><strong>Birmingham</strong></span></span></span></div>\n<div align="center" style="text-align: center\; font-family: Arial\; color: rgb(34\, 34\, 34)\; font-size: 13px\;">\n	&nbsp\;</div>\n<div align="center" style="text-align: center\; font-family: Arial\; color: rgb(34\, 34\, 34)\; font-size: 13px\;">\n	<span style="font-size: large\;"><span style="font-family: arial\,helvetica\,sans-serif\;"><span style="color: rgb(255\, 0\, 0)\;"><strong><span style="font-size: small\;">Auditions are being held&nbsp\;</span></strong></span><strong>Dec 10\, 2012 at the&nbsp\;</strong></span></span></div>\n<div align="center" style="text-align: center\;">\n	<span style="font-size: large\;"><span style="font-family: arial\,helvetica\,sans-serif\;"><span style="color: rgb(255\, 0\, 0)\;"><strong>Birmingham Jefferson Convention Center</strong></span></span></span></div>\n<div align="center" style="text-align: center\; font-family: arial\,helvetica\,sans-serif\; color: rgb(34\, 34\, 34)\; font-size: 13px\;">\n	&nbsp\;</div>\n<div align="center" style="text-align: center\; font-family: arial\,helvetica\,sans-serif\; color: rgb(34\, 34\, 34)\; font-size: 13px\;">\n	<strong><span style="font-size: 14pt\;"><span style="font-family: times\;">YOUR DREAM&hellip\; is 90 seconds away!!!&nbsp\;</span></span></strong></div>\n<div align="center" style="text-align: center\; font-family: arial\,helvetica\,sans-serif\; color: rgb(34\, 34\, 34)\; font-size: 13px\;">\n	<strong><span style="font-size: 14pt\;"><span style="font-family: times\;">ANY TALENT and ANY AGE</span></span></strong><span style="font-size: 14pt\;"><span style="font-family: times\;">.&nbsp\;</span></span></div>\n<div align="center" style="text-align: center\; font-family: arial\,helvetica\,sans-serif\; color: rgb(34\, 34\, 34)\; font-size: 13px\;">\n	<strong><span style="font-size: 14pt\;"><span style="font-family: times\;">Don&#39\;t miss your chance to show America YOUR talent and compete for the opportunity of a lifetime at</span></span></strong><span style="font-size: 14pt\;"><span style="font-family: times\;">&nbsp\;<strong>winning the Grand Prize of $1 MILLION DOLLARS.</strong></span></span></div>\n<div align="center" style="text-align: center\; font-family: arial\,helvetica\,sans-serif\; color: rgb(34\, 34\, 34)\; font-size: 13px\;">\n	&nbsp\;</div>\n<div align="center" style="text-align: center\; font-family: arial\,helvetica\,sans-serif\; color: rgb(34\, 34\, 34)\; font-size: 13px\;">\n	<strong><span style="font-size: 14pt\;"><span style="color: rgb(217\, 11\, 0)\;"><span style="font-family: times\;">*&nbsp\;To pre-register for an Audition and for more information on AGT\, please log onto&nbsp\;</span></span></span></strong><span style="font-size: 14pt\;"><span style="color: rgb(217\, 11\, 0)\;"><span style="font-family: times\;"><a href="http://www.agtauditions.com/" style="color: rgb(17\, 85\, 204)\;" target="_blank"><strong><span style="color: blue\;">www.agtauditions.com</span></strong></a></span><strong>&nbsp\;*</strong></span></span></div>\n&nbsp\;
LOCATION:Birmingham Jefferson Convention Center
UID:e.145.4437
SEQUENCE:3
DTSTAMP:20260424T202210Z
URL:https://business.shelbychamber.org/events/details/nbc-s-america-s-got-talent-is-coming-to-birmingham-12-10-2012-4437
END:VEVENT

END:VCALENDAR
