BEGIN:VCALENDAR
VERSION:2.0
PRODID:-//ChamberMaster//Event Calendar 2.0//EN
METHOD:PUBLISH
X-PUBLISHED-TTL:P3D
REFRESH-INTERVAL:P3D
CALSCALE:GREGORIAN
BEGIN:VEVENT
DTSTART;VALUE=DATE:20121207
DTEND;VALUE=DATE:20121210
TRANSP:TRANSPARENT
X-MICROSOFT-CDO-ALLDAYEVENT:TRUE
SUMMARY:NCAA Men's College Cup
DESCRIPTION:Come on out to Regions Park in Hoover\, Alabama to witness some of the greatest college athletes compete for the Division I Men's College Cup Championship! Tickets are selling fast\, so hurry up before it's too late!
X-ALT-DESC;FMTTYPE=text/html:Come on out to Regions Park in Hoover\, Alabama to witness some of the greatest college athletes compete for the Division I Men&#39\;s College Cup Championship! Tickets are selling fast\, so hurry up before it&#39\;s too late!
LOCATION:Regions Park
UID:e.145.4348
SEQUENCE:3
DTSTAMP:20260424T201632Z
URL:https://business.shelbychamber.org/events/details/ncaa-men-s-college-cup-12-07-2012-4348
END:VEVENT

END:VCALENDAR
