BEGIN:VCALENDAR
VERSION:2.0
PRODID:-//ChamberMaster//Event Calendar 2.0//EN
METHOD:PUBLISH
X-PUBLISHED-TTL:P3D
REFRESH-INTERVAL:P3D
CALSCALE:GREGORIAN
BEGIN:VEVENT
DTSTART:20140425T170000Z
DTEND:20140427T170000Z
X-MICROSOFT-CDO-ALLDAYEVENT:FALSE
SUMMARY:NCAA Women's Gymnastics Championship
DESCRIPTION:This is a must event for that sports fan on your list!
X-ALT-DESC;FMTTYPE=text/html:This is a must event for that sports fan on your list!
LOCATION:BJCC
UID:e.145.5012
SEQUENCE:3
DTSTAMP:20260423T183753Z
URL:https://business.shelbychamber.org/events/details/ncaa-women-s-gymnastics-championship-04-25-2014-5012
END:VEVENT

END:VCALENDAR
