BEGIN:VCALENDAR
VERSION:2.0
PRODID:-//ChamberMaster//Event Calendar 2.0//EN
METHOD:PUBLISH
X-PUBLISHED-TTL:P3D
REFRESH-INTERVAL:P3D
CALSCALE:GREGORIAN
BEGIN:VEVENT
DTSTART:20141118T220000Z
DTEND:20141119T000000Z
X-MICROSOFT-CDO-ALLDAYEVENT:FALSE
SUMMARY:NETWORK280 at Dixie Fish Co.
DESCRIPTION:NETWORK280   a joint effort of 280 Living\, Dixie Fish Company and the Greater Shelby County Chamber\, will provide you with an excellent opportunity to make contacts on U.S. 280.  Bring plenty of business cards.\n\n\n\nAdmission includes two drink tickets and heavy hors d'oeuvres.
X-ALT-DESC;FMTTYPE=text/html:<br />\n<em>NETWORK</em>280 &ndash\; a joint effort of 280 Living\, Dixie Fish Company and the Greater Shelby County Chamber\, will provide you with an excellent opportunity to make contacts on U.S. 280.&nbsp\; <em>Bring plenty of business cards</em>.<br />\n<br />\nAdmission includes two drink tickets and heavy hors d&#39\;oeuvres.
LOCATION:Dixie Fish Company 101 Resource Parkway Birmingham\, Alabama
UID:e.145.6515
SEQUENCE:3
DTSTAMP:20260423T074802Z
URL:https://business.shelbychamber.org/events/details/network280-at-dixie-fish-co-11-18-2014-6515
END:VEVENT

END:VCALENDAR
