BEGIN:VCALENDAR
VERSION:2.0
PRODID:-//ChamberMaster//Event Calendar 2.0//EN
METHOD:PUBLISH
X-PUBLISHED-TTL:P3D
REFRESH-INTERVAL:P3D
CALSCALE:GREGORIAN
BEGIN:VEVENT
DTSTART:20140101T020000Z
DTEND:20140101T063000Z
X-MICROSOFT-CDO-ALLDAYEVENT:FALSE
SUMMARY:New Year's Eve Bash - Rollin' in the Hay
DESCRIPTION:New Year's Eve Bash Featuring ROLLIN' IN THE HAY \n\nTuesday\, December 31\, 2013\n\nTicket Price - $40/single or $70/Couple \n\n\n\nClick HERE to order tickets \n\n\n\nJoin us New Year's Eve for a fun evening with regional favorites "Rolling in the Hay". Your ticket will include Hors d' oeuvres and a champagne toast\, other beverages will be available as well. Your ticket price guarantees you a unique\, relaxed evening out in our beautiful little town and also helps support the mission  of the Shelby County Arts Council. Doors open at 8 pm. Show starts at 9pm. Ends at 12:30 am.
X-ALT-DESC;FMTTYPE=text/html:<strong><span style="font-size: medium\;"><span style="font-family: arial\;">New Year&#39\;s Eve Bash Featuring </span></span></strong><em><strong><span style="font-size: medium\;"><span style="font-family: arial\;">ROLLIN&#39\; IN THE HAY</span></span></strong>&nbsp\;</em><br />\n<span style="font-size: small\;"><span style="font-family: arial\;">Tuesday\, December 31\, 2013</span></span><br />\n<span style="font-size: small\;"><span style="font-family: arial\;">Ticket Price - $40/single or $70/Couple&nbsp\;</span></span><br />\n<br />\n<span style="font-size: small\;"><span style="font-family: arial\;"><a href="http://www.shelbycountyartscouncil.com/shop/484/New%27s+Year+Eve+Bash+featuring+Rollin%27+In+The+Hay.htm">Click HERE to order tickets&nbsp\;</a></span></span><br />\n<br />\n<span style="font-size: small\;">Join us New Year&#39\;s Eve for a fun evening with regional favorites &quot\;Rolling in the Hay&quot\;. Your ticket will include Hors d&#39\; oeuvres and a champagne toast\, other beverages will be available as well. Your ticket price guarantees you a unique\, relaxed evening out in our beautiful little town and also helps support the mission &nbsp\;of the Shelby County Arts Council. Doors open at <span data-term="goog_1588650415" tabindex="0">8 pm</span></span>. Show starts at <span data-term="goog_1588650416" tabindex="0">9pm</span>. Ends at <span data-term="goog_1588650417" tabindex="0">12:30 am</span>.<br />\n
LOCATION:Shelby County Arts Council Performance Space
UID:e.145.4962
SEQUENCE:3
DTSTAMP:20260423T230209Z
URL:https://business.shelbychamber.org/events/details/new-year-s-eve-bash-rollin-in-the-hay-12-31-2013-4962
END:VEVENT

END:VCALENDAR
