BEGIN:VCALENDAR
VERSION:2.0
PRODID:-//ChamberMaster//Event Calendar 2.0//EN
METHOD:PUBLISH
X-PUBLISHED-TTL:P3D
REFRESH-INTERVAL:P3D
CALSCALE:GREGORIAN
BEGIN:VEVENT
DTSTART:20160210T190000Z
DTEND:20160210T200000Z
X-MICROSOFT-CDO-ALLDAYEVENT:FALSE
SUMMARY:Newbery Pie Book Club
DESCRIPTION:Join us for a yummy book club where we will be talking about Newbery books and eating some delicious pie. All ages are welcome (including adults). Registration required. Check our website for more information.
X-ALT-DESC;FMTTYPE=text/html:<span style="font-family:calibri light\,sans-serif">Join&nbsp\;us&nbsp\;for&nbsp\;a&nbsp\;yummy&nbsp\;book&nbsp\;club&nbsp\;where&nbsp\;we&nbsp\;will&nbsp\;be&nbsp\;talking&nbsp\;about&nbsp\;Newbery&nbsp\;books&nbsp\;and&nbsp\;eating&nbsp\;some delicious&nbsp\;pie.&nbsp\;All&nbsp\;ages&nbsp\;are&nbsp\;welcome&nbsp\;(including&nbsp\;adults).&nbsp\;<u>Registration&nbsp\;required</u>.&nbsp\;Check&nbsp\;our&nbsp\;website for&nbsp\;more&nbsp\;information.</span>
LOCATION:
UID:e.145.8270
SEQUENCE:3
DTSTAMP:20260422T093046Z
URL:https://business.shelbychamber.org/events/details/newbery-pie-book-club-02-10-2016-8270
END:VEVENT

END:VCALENDAR
