BEGIN:VCALENDAR
VERSION:2.0
PRODID:-//ChamberMaster//Event Calendar 2.0//EN
METHOD:PUBLISH
X-PUBLISHED-TTL:P3D
REFRESH-INTERVAL:P3D
CALSCALE:GREGORIAN
BEGIN:VEVENT
DTSTART:20160309T190000Z
DTEND:20160309T200000Z
X-MICROSOFT-CDO-ALLDAYEVENT:FALSE
SUMMARY:Newbery Pie Book Club
DESCRIPTION:Join us for a yummy book club where we will be talking about Newbery books and eating some delicious pie. All ages are welcome (including adults). Registration is required. Check our website for more information.
X-ALT-DESC;FMTTYPE=text/html:<span style="font-family:calibri light\,sans-serif">Join us for a yummy book club where we will be talking about Newbery books and eating some delicious pie. All ages are welcome (including adults). Registration is required. Check our website for more information.</span>
LOCATION:North Shelby Library
UID:e.145.8361
SEQUENCE:3
DTSTAMP:20260422T074957Z
URL:https://business.shelbychamber.org/events/details/newbery-pie-book-club-03-09-2016-8361
END:VEVENT

END:VCALENDAR
