BEGIN:VCALENDAR
VERSION:2.0
PRODID:-//ChamberMaster//Event Calendar 2.0//EN
METHOD:PUBLISH
X-PUBLISHED-TTL:P3D
REFRESH-INTERVAL:P3D
CALSCALE:GREGORIAN
BEGIN:VEVENT
DTSTART:20151014T180000Z
DTEND:20151014T190000Z
X-MICROSOFT-CDO-ALLDAYEVENT:FALSE
SUMMARY:Newbery Pie Book Club
DESCRIPTION:Join us for a yummy book club where we will be talking about Newbery books and eating some delicious pie. All ages are welcome (including adults). Registration is required. Check our website for more information.
X-ALT-DESC;FMTTYPE=text/html:Join us for a yummy book club where we will be talking about Newbery books and eating some delicious pie. All ages are welcome (including adults). Registration is required. Check our website for more information.&nbsp\;
LOCATION:North Shelby Library
UID:e.145.7893
SEQUENCE:3
DTSTAMP:20260422T154254Z
URL:https://business.shelbychamber.org/events/details/newbery-pie-book-club-10-14-2015-7893
END:VEVENT

END:VCALENDAR
