BEGIN:VCALENDAR
VERSION:2.0
PRODID:-//ChamberMaster//Event Calendar 2.0//EN
METHOD:PUBLISH
X-PUBLISHED-TTL:P3D
REFRESH-INTERVAL:P3D
CALSCALE:GREGORIAN
BEGIN:VEVENT
DTSTART:20150209T190000Z
DTEND:20150209T200000Z
X-MICROSOFT-CDO-ALLDAYEVENT:FALSE
SUMMARY:Newbery Pie Bookclub
DESCRIPTION:Join us for a yummy book club where we will be talking about Newbery books and eating some delicious pie. All ages are welcome (including adults). Registration is required. Check our website for more information.
X-ALT-DESC;FMTTYPE=text/html:Join us for a yummy book club where we will be talking about Newbery books and eating some delicious pie. All ages are welcome (including adults). Registration is required. Check our website for more information.
LOCATION:North Shelby Library 5521 Cahaba Valley Rd. Birmingham\, AL 35242
UID:e.145.7175
SEQUENCE:3
DTSTAMP:20260423T034452Z
URL:https://business.shelbychamber.org/events/details/newbery-pie-bookclub-02-09-2015-7175
END:VEVENT

END:VCALENDAR
