BEGIN:VCALENDAR
VERSION:2.0
PRODID:-//ChamberMaster//Event Calendar 2.0//EN
METHOD:PUBLISH
X-PUBLISHED-TTL:P3D
REFRESH-INTERVAL:P3D
CALSCALE:GREGORIAN
BEGIN:VEVENT
DTSTART:20120823T160000Z
DTEND:20120823T170000Z
X-MICROSOFT-CDO-ALLDAYEVENT:FALSE
SUMMARY:NEX21 Media Ribbon Cutting Greater\, Hoover\, Vestavia Chambers & BBA!
DESCRIPTION:NEX21 cordially invites you to attend our\n\n	RIBBON CUTTING CELEBRATION\n\n	FOR OUR NEW OFFICES\n\n	\n\n	ON\n\n	\n\n	Thursday\, August 23rd\n\n	\n\n	AT\n\n	\n\n	11:00 am\n\n	\n\n	LOCATED IN LIBERTY PARK\n\n	1400 Urban Center Drive\, Suite 100\n\n	Vestavia Hills\, AL 35242\n\n	CLICK HERE for a printable .jpp flier.\n\n	\n\n	\n\n	From 459 exit 23 Liberty Parkway\, before traffic light keep right to first stop sign. Follow through to traffic light. Arrive at second stop sign turn left on Urban Center Trail. Follow to stop sign\, turn right on Urban Center Drive and park in first parking area entrance.\n\n	\n\n	Upon entering the Lobby take the elevator down to the first floor and follow the signs to our new Lobby entrance.\n\n	\n\n	Joint event with our Chamber Partners at:\n\n	\n\n	Hoover Area Chamber of Commerce\n\n	Vestavia Hills Chamber of Commerce\n\n	The Greater Shelby Chamber of Commerce\n\n	The Birmingham Business Alliance\n\n	\n\n	Lunch and Door Prizes\n\n	\n\n	RSVP by August 16\n\n	\n\n	Email to Chaundra.Davis@NEX21.com
X-ALT-DESC;FMTTYPE=text/html:<div style="text-align: center\;">\n	<br />\n	<strong>NEX21 cordially invites you to attend our<br />\n	RIBBON CUTTING CELEBRATION</strong><br />\n	<strong>FOR OUR NEW OFFICES</strong><br />\n	<br />\n	ON<br />\n	<br />\n	<strong>Thursday\, August 23rd</strong><br />\n	<br />\n	AT<br />\n	<br />\n	<strong>11:00 am<br />\n	<br />\n	LOCATED IN LIBERTY PARK</strong><br />\n	1400 Urban Center Drive\, Suite 100<br />\n	Vestavia Hills\, AL 35242<br />\n	<a href="http://cloud.chambermaster.com/userfiles/UserFiles/chambers/145/File/Community%20Events/Invite.jpg">CLICK HERE for a printable .jpp flier.</a><br />\n	<br />\n	<br />\n	From 459 exit 23 Liberty Parkway\, before traffic light keep right to first stop sign. Follow through to traffic light. Arrive at second stop sign turn left on Urban Center Trail. Follow to stop sign\, turn right on Urban Center Drive and park in first parking area entrance.<br />\n	<br />\n	Upon entering the Lobby take the elevator down to the first floor and follow the signs to our new Lobby entrance.<br />\n	<br />\n	Joint event with our Chamber Partners at:<br />\n	<br />\n	Hoover Area Chamber of Commerce<br />\n	Vestavia Hills Chamber of Commerce<br />\n	The Greater Shelby Chamber of Commerce<br />\n	The Birmingham Business Alliance<br />\n	<br />\n	Lunch and Door Prizes<br />\n	<br />\n	<strong>RSVP by August 16</strong><br />\n	<br />\n	Email to Chaundra.Davis@NEX21.com</div>\n
LOCATION:NEX21 1400 Urban Center Drive\, Suite 100 Vestavia Hills\, AL 35242
UID:e.145.4263
SEQUENCE:3
DTSTAMP:20260425T024853Z
URL:https://business.shelbychamber.org/events/details/nex21-media-ribbon-cutting-greater-hoover-vestavia-chambers-bba-08-23-2012-4263
END:VEVENT

END:VCALENDAR
