BEGIN:VCALENDAR
VERSION:2.0
PRODID:-//ChamberMaster//Event Calendar 2.0//EN
METHOD:PUBLISH
X-PUBLISHED-TTL:P3D
REFRESH-INTERVAL:P3D
CALSCALE:GREGORIAN
BEGIN:VEVENT
DTSTART:20130527T003000Z
DTEND:20130527T023000Z
X-MICROSOFT-CDO-ALLDAYEVENT:FALSE
SUMMARY:Night Hike
DESCRIPTION:Let's take a hike at night. There are a lot more creatures out at night than you think about. Learn about some of them during this hike. We will meet at the Park Office on Terrace Drive.
X-ALT-DESC;FMTTYPE=text/html:Let&rsquo\;s take a hike at night. There are a lot more creatures out at night than you think about. Learn about some of them during this hike. We will meet at the Park Office on Terrace Drive.
LOCATION:Oak Mountain State Park - Park Office
UID:e.145.4521
SEQUENCE:3
DTSTAMP:20260424T115922Z
URL:https://business.shelbychamber.org/events/details/night-hike-05-26-2013-4521
END:VEVENT

END:VCALENDAR
