BEGIN:VCALENDAR
VERSION:2.0
PRODID:-//ChamberMaster//Event Calendar 2.0//EN
METHOD:PUBLISH
X-PUBLISHED-TTL:P3D
REFRESH-INTERVAL:P3D
CALSCALE:GREGORIAN
BEGIN:VEVENT
DTSTART:20130421T000000Z
DTEND:20130421T020000Z
X-MICROSOFT-CDO-ALLDAYEVENT:FALSE
SUMMARY:Nocturnal Creatures
DESCRIPTION:The animals that come out at night are often misunderstood. Come learn about the creatures that are active at night. This hike will take place in conjunction with Southeastern Outings. We will meet at the Park Office Parking Lot on Terrace Drive.
X-ALT-DESC;FMTTYPE=text/html:The animals that come out at night are often misunderstood. Come learn about the creatures that are active at night. This hike will take place in conjunction with Southeastern Outings. We will meet at the Park Office Parking Lot on Terrace Drive.
LOCATION:Oak Mountain State Park - Park Office
UID:e.145.4518
SEQUENCE:3
DTSTAMP:20260424T134401Z
URL:https://business.shelbychamber.org/events/details/nocturnal-creatures-04-20-2013-4518
END:VEVENT

END:VCALENDAR
