BEGIN:VCALENDAR
VERSION:2.0
PRODID:-//ChamberMaster//Event Calendar 2.0//EN
METHOD:PUBLISH
X-PUBLISHED-TTL:P3D
REFRESH-INTERVAL:P3D
CALSCALE:GREGORIAN
BEGIN:VEVENT
DTSTART:20130608T180000Z
DTEND:20130628T180000Z
X-MICROSOFT-CDO-ALLDAYEVENT:FALSE
SUMMARY:Noland Hospital Shelby Recruitment Fair
DESCRIPTION:Noland Hospital Shelby -- Recruitment Fair\n\n\n\nRegistered Nurse Positions Available\n\n\n\nCome visit us Thursday June 20\, 2013 and Thursday June 27\, 2013\n\nBetween 4pm-8pm\n\n\n\nVisit our website at www.NolandHealth.com to apply.\n\nPlease submit an application prior to your visit and be sure to bring along a Resume.
X-ALT-DESC;FMTTYPE=text/html:&nbsp\;<br />\n<span style="font-size: 16px"><big><span style="font-family: calibri"><span style="font-family: times new roman\, serif">Noland Hospital Shelby -- Recruitment Fair</span></span></big><br />\n<br />\n<span style="font-size: 14px"><span style="font-family: verdana\, sans-serif">Registered Nurse Positions Available</span><br />\n<br />\n<span style="font-family: verdana\, sans-serif">Come visit us Thursday June 20\, 2013 and Thursday June 27\, 2013</span><br />\n<span style="font-family: verdana\, sans-serif">Between 4pm-8pm</span><br />\n<br />\n<span style="font-family: verdana\, sans-serif">Visit our website at </span><a href="http://www.nolandhealth.com/">www.NolandHealth.com</a> to apply.</span></span><br />\n<span style="font-size: 8.5pt"><span style="font-size: 14px"><span style="font-family: verdana\, sans-serif">Please submit an application prior to your visit and be sure to bring along a Resume</span></span><span style="color: #1f497d">.</span></span><br />\n&nbsp\;<br />\n
LOCATION:Noland Hospital Shelby 1000 First Street North 3rd Floor Main Hospital Alabaster\, AL 35007 205-620-8109
UID:e.145.4632
SEQUENCE:3
DTSTAMP:20260424T102857Z
URL:https://business.shelbychamber.org/events/details/noland-hospital-shelby-recruitment-fair-06-08-2013-4632
END:VEVENT

END:VCALENDAR
