BEGIN:VCALENDAR
VERSION:2.0
PRODID:-//ChamberMaster//Event Calendar 2.0//EN
METHOD:PUBLISH
X-PUBLISHED-TTL:P3D
REFRESH-INTERVAL:P3D
CALSCALE:GREGORIAN
BEGIN:VEVENT
DTSTART;VALUE=DATE:20110815
DTEND;VALUE=DATE:20110917
TRANSP:TRANSPARENT
X-MICROSOFT-CDO-ALLDAYEVENT:TRUE
SUMMARY:Nominations for Veterans Diversity Award Now Being Accepted
DESCRIPTION:The Birmingham Society for Human Resources Management (BSHRM) is now seeking nominations for our annual Diversity award.  This year we are seeking nominations for companies that actively support Veterans as an area of diversity.  Please see our website at www.BSHRM.org for a nomination form.  If you have any questions\, please contact Kevin Lane at LaneK@SouthernResearch.ORG or by phone at 205-581-2745.
X-ALT-DESC;FMTTYPE=text/html:The Birmingham Society for Human Resources Management (BSHRM) is now seeking nominations for our annual Diversity award. &nbsp\;This year we are seeking nominations for companies that actively support Veterans as an area of diversity. &nbsp\;Please see our website at <a href="http://www.BSHRM.org">www.BSHRM.org</a> for a nomination form. &nbsp\;If you have any questions\, please contact Kevin Lane at LaneK@SouthernResearch.ORG or by phone at 205-581-2745.
LOCATION:November Meeting Location - TBD
UID:e.145.3490
SEQUENCE:3
DTSTAMP:20260425T212957Z
URL:https://business.shelbychamber.org/events/details/nominations-for-veterans-diversity-award-now-being-accepted-08-15-2011-3490
END:VEVENT

END:VCALENDAR
