BEGIN:VCALENDAR
VERSION:2.0
PRODID:-//ChamberMaster//Event Calendar 2.0//EN
METHOD:PUBLISH
X-PUBLISHED-TTL:P3D
REFRESH-INTERVAL:P3D
CALSCALE:GREGORIAN
BEGIN:VEVENT
DTSTART;VALUE=DATE:20110415
DTEND;VALUE=DATE:20110416
TRANSP:TRANSPARENT
X-MICROSOFT-CDO-ALLDAYEVENT:TRUE
SUMMARY:North Shelby Baptist Church Easter Drama
DESCRIPTION:Beautiful Easter Drama\, over 80 cast members.
X-ALT-DESC;FMTTYPE=text/html:Beautiful Easter Drama\, over 80 cast members.
LOCATION:North Shelby Baptist Church
UID:e.145.3374
SEQUENCE:3
DTSTAMP:20260426T035145Z
URL:https://business.shelbychamber.org/events/details/north-shelby-baptist-church-easter-drama-04-15-2011-3374
END:VEVENT

END:VCALENDAR
