BEGIN:VCALENDAR
VERSION:2.0
PRODID:-//ChamberMaster//Event Calendar 2.0//EN
METHOD:PUBLISH
X-PUBLISHED-TTL:P3D
REFRESH-INTERVAL:P3D
CALSCALE:GREGORIAN
BEGIN:VEVENT
DTSTART:20131013T190000Z
DTEND:20131013T230000Z
X-MICROSOFT-CDO-ALLDAYEVENT:FALSE
SUMMARY:North Shelby Library 25th Anniversary Open House
DESCRIPTION:The Friends of the North Shelby Library cordially invite you and your family to join us for light refreshments\, door prizes\, music\, and more!  Featuring Special Musical Guests "Grain of Salt"
X-ALT-DESC;FMTTYPE=text/html:The Friends of the North Shelby Library cordially invite you and your family to join us for light refreshments\, door prizes\, music\, and more! &nbsp\;Featuring Special Musical Guests &quot\;Grain of Salt&quot\;
LOCATION:5521 Cahaba Valley Road\, Birmingham AL 35242
UID:e.145.4746
SEQUENCE:3
DTSTAMP:20260424T051352Z
URL:https://business.shelbychamber.org/events/details/north-shelby-library-25th-anniversary-open-house-10-13-2013-4746
END:VEVENT

END:VCALENDAR
