BEGIN:VCALENDAR
VERSION:2.0
PRODID:-//ChamberMaster//Event Calendar 2.0//EN
METHOD:PUBLISH
X-PUBLISHED-TTL:P3D
REFRESH-INTERVAL:P3D
CALSCALE:GREGORIAN
BEGIN:VEVENT
DTSTART:20111117T220000Z
DTEND:20111117T230000Z
X-MICROSOFT-CDO-ALLDAYEVENT:FALSE
SUMMARY:North Shelby Library -- B'Tween the Pages Book Club
DESCRIPTION:North Shelby Library -- B'Tween the Pages Book Club (for ages 9-12) will be reading The Phantom Tollbooth this month. The discussion meeting will be Nov. 17th @ 4 pm in the North Shelby Teen Dept.\n\n\n\nReaders will have the chance to submit questions or comments to the author and illustrator.\n\n\n\nClick here for a printable PDF flier of the event.\n\n\n\n*Registration is Required*\n\nspeak with a librarian (205-439-5504)\n\nor sign up online (http://www.northshelbylibrary.org)
X-ALT-DESC;FMTTYPE=text/html:North Shelby Library -- B&#39\;Tween the Pages Book Club (for ages 9-12) will be reading The Phantom Tollbooth this month. The discussion meeting will be Nov. 17th @ 4 pm in the North Shelby Teen Dept.<br />\n<br />\nReaders will have the chance to submit questions or comments to the author and illustrator.<br />\n<br />\n<a href="http://cloud.chambermaster.com/userfiles/UserFiles/chambers/145/File/Community%20Events/11-11-PhantomTollbooth.pdf">Click here for a printable PDF flier of the event.<br />\n<br />\n*Registration is Required*<br />\nspeak with a librarian (205-439-5504)<br />\nor sign up online (http://www.northshelbylibrary.org)</a>
LOCATION:North Shelby Library 205-439-5504
UID:e.145.3616
SEQUENCE:3
DTSTAMP:20260425T171323Z
URL:https://business.shelbychamber.org/events/details/north-shelby-library-b-tween-the-pages-book-club-11-17-2011-3616
END:VEVENT

END:VCALENDAR
