BEGIN:VCALENDAR
VERSION:2.0
PRODID:-//ChamberMaster//Event Calendar 2.0//EN
METHOD:PUBLISH
X-PUBLISHED-TTL:P3D
REFRESH-INTERVAL:P3D
CALSCALE:GREGORIAN
BEGIN:VEVENT
DTSTART;VALUE=DATE:20151118
DTEND;VALUE=DATE:20151219
TRANSP:TRANSPARENT
X-MICROSOFT-CDO-ALLDAYEVENT:TRUE
SUMMARY:North Shelby Library Canned Food Drive
DESCRIPTION:December Canned Food Drive   November 18th   December 18th \n\nBring canned food and other nonperishable food items to the Children's Department to spread holiday cheer! Donate to take home a thank you prize. All donations will benefit Shelby Emergency Assistance (http://www.shelbyemergencyassistance.com/).
X-ALT-DESC;FMTTYPE=text/html:<strong>December Canned Food Drive &ndash\; November 18<sup>th</sup> &ndash\; December 18<sup>th</sup> </strong><br />\nBring canned food and other nonperishable food items to the Children&rsquo\;s Department to spread holiday cheer! Donate to take home a thank you prize. All donations will benefit Shelby Emergency Assistance (http://www.shelbyemergencyassistance.com/).&nbsp\;
LOCATION:5521 Cahaba Valley Road\, Birmingham AL 35242
UID:e.145.7973
SEQUENCE:3
DTSTAMP:20260422T125347Z
URL:https://business.shelbychamber.org/events/details/north-shelby-library-canned-food-drive-11-18-2015-7973
END:VEVENT

END:VCALENDAR
