BEGIN:VCALENDAR
VERSION:2.0
PRODID:-//ChamberMaster//Event Calendar 2.0//EN
METHOD:PUBLISH
X-PUBLISHED-TTL:P3D
REFRESH-INTERVAL:P3D
CALSCALE:GREGORIAN
BEGIN:VEVENT
DTSTART;VALUE=DATE:20151201
DTEND;VALUE=DATE:20151224
TRANSP:TRANSPARENT
X-MICROSOFT-CDO-ALLDAYEVENT:TRUE
SUMMARY:North Shelby Library December Craft
DESCRIPTION:Stop by the Children's Department in December to pick up a craft to take home or make in the department. All ages are welcome. Supplies are limited.
X-ALT-DESC;FMTTYPE=text/html:Stop&nbsp\;by&nbsp\;the&nbsp\;Children&rsquo\;s&nbsp\;Department&nbsp\;in&nbsp\;December&nbsp\;to&nbsp\;pick&nbsp\;up&nbsp\;a&nbsp\;craft&nbsp\;to&nbsp\;take&nbsp\;home&nbsp\;or&nbsp\;make&nbsp\;in&nbsp\;the department.&nbsp\;<u>All&nbsp\;ages&nbsp\;are&nbsp\;welcome</u>.&nbsp\;<u>Supplies&nbsp\;are&nbsp\;limited</u>.
LOCATION:5521 Cahaba Valley Road\, Birmingham AL 35242
UID:e.145.7974
SEQUENCE:3
DTSTAMP:20260422T124251Z
URL:https://business.shelbychamber.org/events/details/north-shelby-library-december-craft-12-01-2015-7974
END:VEVENT

END:VCALENDAR
