BEGIN:VCALENDAR
VERSION:2.0
PRODID:-//ChamberMaster//Event Calendar 2.0//EN
METHOD:PUBLISH
X-PUBLISHED-TTL:P3D
REFRESH-INTERVAL:P3D
CALSCALE:GREGORIAN
BEGIN:VEVENT
DTSTART:20110520T230000Z
DTEND:20110521T110000Z
X-MICROSOFT-CDO-ALLDAYEVENT:FALSE
SUMMARY:North Shelby Relay For Life
DESCRIPTION:Regions is a proud supporter of ACS and is the exclusive title sponsor of the North Shelby Relay for Life scheduled for Friday\, May 20 at 6:00 p.m. at Pelham High School.  The Regions family will walk in loving memory of Tony Holmes\, late Shelby County City President\, who worked for the bank for over 28 years and recently lost his battle with cancer. Tony made a great impact on the Shelby County community and to his family\, friends\, and co-workers.  Help make a difference by joining the Regions team and help find a cure for cancer!   Visit www.relayforlife.org/northshelby to join the team or email Teresa Vick at teresa.vick@regions.com.
X-ALT-DESC;FMTTYPE=text/html:Regions is a proud supporter of ACS and is the exclusive title sponsor of the North Shelby Relay for Life scheduled for Friday\, May 20 at 6:00 p.m. at Pelham High School.  The Regions family will walk in loving memory of Tony Holmes\, late Shelby County City President\, who worked for the bank for over 28 years and recently lost his battle with cancer. Tony made a great impact on the Shelby County community and to his family\, friends\, and co-workers.  Help make a difference by joining the Regions team and help find a cure for cancer!   Visit www.relayforlife.org/northshelby to join the team or email Teresa Vick at teresa.vick@regions.com.
LOCATION:Pelham High School
UID:e.145.3379
SEQUENCE:3
DTSTAMP:20260426T021927Z
URL:https://business.shelbychamber.org/events/details/north-shelby-relay-for-life-05-20-2011-3379
END:VEVENT

END:VCALENDAR
