BEGIN:VCALENDAR
VERSION:2.0
PRODID:-//ChamberMaster//Event Calendar 2.0//EN
METHOD:PUBLISH
X-PUBLISHED-TTL:P3D
REFRESH-INTERVAL:P3D
CALSCALE:GREGORIAN
BEGIN:VEVENT
DTSTART:20160619T003000Z
DTEND:20160619T030000Z
X-MICROSOFT-CDO-ALLDAYEVENT:FALSE
SUMMARY:NoYoko
DESCRIPTION:$20 Doors open at 7:00pm. Tickets includes a complimentary beverage reception. SCAC Members enjoy reserved seating.  All other seating is General Admission. \n\nNOYOKO is a group of Beatle nuts who perform classic Beatles songs from the Beatles entire catalog. Formed in 2013 by Doug Lee and Tony Wachter\, the group relies heavily on their long careers as professional musicians and studio expertise.
X-ALT-DESC;FMTTYPE=text/html:<p>&nbsp\;<span style="font-size:medium"><span style="font-family:arial">$20&nbsp\;</span></span><span style="font-family:arial\; font-size:medium">Doors open at 7:00pm.&nbsp\;</span><span style="font-family:arial\; font-size:medium">Tickets includes a complimentary beverage reception. SCAC Members enjoy reserved seating. &nbsp\;All other seating is General Admission.&nbsp\;</span></p>\n\n<p><span style="font-size:medium"><span style="font-family:arial"><span style="color:rgb(20\, 24\, 35)">NOYOKO is a group of Beatle nuts who perform classic Beatles songs from the Beatles entire catalog. Formed in 2013 by Doug&nbsp\;</span><span style="color:rgb(20\, 24\, 35)">Lee and Tony Wachter\, the group relies heavily on their long careers as professional musicians and studio expertise.</span></span></span></p>\n\n<p>&nbsp\;</p>\n
LOCATION:104 Mildred st. Columbiana Al 35051
UID:e.145.9585
SEQUENCE:3
DTSTAMP:20260422T025920Z
URL:https://business.shelbychamber.org/events/details/noyoko-06-18-2016-9585
END:VEVENT

END:VCALENDAR
